BEGIN:VCALENDAR
PRODID:-//Feedo Feed//NONSGML v1.0//EN
VERSION:2.0
CALSCALE:GREGORIAN
METHOD:PUBLISH
X-WR-CALNAME:Decatur AMP
X-WR-CALDESC:
X-MS-OLK-FORCEINSPECTOROPEN:TRUE
BEGIN:VEVENT
DTSTAMP:20260423T190751Z
DTSTART:20180330T183000Z
DTEND:20180330T213000Z
TRANSP:TRANSPARENT
UID:607012018-03-30
SUMMARY:Decatur AMP
DESCRIPTION:
URL:http://www.cmcatlanta.com/index.php/component/ohanah/decatur-amp-369?format=html&amp;Itemid=
CATEGORIES:Morgan Rubin
GEO:33.7705095;-84.29586770000003
LOCATION:CMC Decatur, Faculty Assignment
END:VEVENT
END:VCALENDAR