BEGIN:VCALENDAR
PRODID:-//Feedo Feed//NONSGML v1.0//EN
VERSION:2.0
CALSCALE:GREGORIAN
METHOD:PUBLISH
X-WR-CALNAME:Decatur AMP 
X-WR-CALDESC:2:00 arrival, prepare to go to Talley before 2:15 (with Matt Brower) and bring kids from Talley to the Center. \n2:30 supervise students having their snack\n3:00 Stephen arrives with his carpool of children.  Please check in with him about what he will need and how to divide classes. \n \n4:30 Clare Liang, piano lesson\n5:00 Crystal Liang, piano lesson\n \n5:30 help with kids outside\n6:00 depart for the day
X-MS-OLK-FORCEINSPECTOROPEN:TRUE
BEGIN:VEVENT
DTSTAMP:20260423T061057Z
DTSTART:20210907T180000Z
DTEND:20210907T220000Z
TRANSP:TRANSPARENT
UID:1023712021-09-07
SUMMARY:Decatur AMP 
DESCRIPTION:2:00 arrival, prepare to go to Talley before 2:15 (with Matt Brower) and bring kids from Talley to the Center. \n2:30 supervise students having their snack\n3:00 Stephen arrives with his carpool of children.  Please check in with him about what he will need and how to divide classes. \n \n4:30 Clare Liang, piano lesson\n5:00 Crystal Liang, piano lesson\n \n5:30 help with kids outside\n6:00 depart for the day
URL:http://www.cmcatlanta.com/index.php/component/ohanah/decatur-amp-552?format=html&amp;Itemid=
CATEGORIES:Stephanie Cordoba 
GEO:33.7705095;-84.29586770000003
LOCATION:CMC Decatur, Faculty Assignment
END:VEVENT
END:VCALENDAR