BEGIN:VCALENDAR
PRODID:-//Feedo Feed//NONSGML v1.0//EN
VERSION:2.0
CALSCALE:GREGORIAN
METHOD:PUBLISH
X-WR-CALNAME:Decatur AMP begins
X-WR-CALDESC:First day of the Afterschool Music Program @ CMC Decatur.  The AMP Shuttles services all City Schools of Decatur public elementary schools and a limited number of private schools in Decatur.  Program combines the traditional elements of aftercare with music school immersion, group classes and private lessons on the instrument of choice.\nMore info on AMP  \n \n 
X-MS-OLK-FORCEINSPECTOROPEN:TRUE
BEGIN:VEVENT
DTSTAMP:20260423T022131Z
DTSTART:20210803T130000Z
DTEND:20210803T173000Z
TRANSP:TRANSPARENT
UID:967392021-08-03
SUMMARY:Decatur AMP begins
DESCRIPTION:First day of the Afterschool Music Program @ CMC Decatur.  The AMP Shuttles services all City Schools of Decatur public elementary schools and a limited number of private schools in Decatur.  Program combines the traditional elements of aftercare with music school immersion, group classes and private lessons on the instrument of choice.\nMore info on AMP  \n \n 
URL:http://www.cmcatlanta.com/index.php/component/ohanah/decatur-amp-begins-4?format=html&amp;Itemid=
CATEGORIES:Master Calendar
GEO:33.7704955;-84.29584339999997
LOCATION:CMC Decatur
END:VEVENT
END:VCALENDAR