BEGIN:VCALENDAR
PRODID:-//Feedo Feed//NONSGML v1.0//EN
VERSION:2.0
CALSCALE:GREGORIAN
METHOD:PUBLISH
X-WR-CALNAME:Decatur AMP Early Dismissal
X-WR-CALDESC:12:15 pick up FAVE\n12:45 pick up lower elementary
X-MS-OLK-FORCEINSPECTOROPEN:TRUE
BEGIN:VEVENT
DTSTAMP:20260423T115644Z
DTSTART:20210917T160000Z
DTEND:20210917T223000Z
TRANSP:TRANSPARENT
UID:1030692021-09-17
SUMMARY:Decatur AMP Early Dismissal
DESCRIPTION:12:15 pick up FAVE\n12:45 pick up lower elementary
URL:http://www.cmcatlanta.com/index.php/component/ohanah/decatur-amp-early-dismissal-1?format=html&amp;Itemid=
CATEGORIES:Stephen Pepper
GEO:33.7705095;-84.29586770000003
LOCATION:CMC Decatur, Faculty Assignment
END:VEVENT
END:VCALENDAR