BEGIN:VCALENDAR
PRODID:-//Feedo Feed//NONSGML v1.0//EN
VERSION:2.0
CALSCALE:GREGORIAN
METHOD:PUBLISH
X-WR-CALNAME:Decatur AMP (Wednesday)
X-WR-CALDESC:2:00 arrive at Center, depart in time for 2:15 pick up at Talley\n2:30 supervise student having snack\n3:00 check in with Stephen about class division\n5:30 help with kids outside\n6:00 depart for the day
X-MS-OLK-FORCEINSPECTOROPEN:TRUE
BEGIN:VEVENT
DTSTAMP:20260424T012957Z
DTSTART:20210908T180000Z
DTEND:20210908T220000Z
TRANSP:TRANSPARENT
UID:1023722021-09-08
SUMMARY:Decatur AMP (Wednesday)
DESCRIPTION:2:00 arrive at Center, depart in time for 2:15 pick up at Talley\n2:30 supervise student having snack\n3:00 check in with Stephen about class division\n5:30 help with kids outside\n6:00 depart for the day
URL:http://www.cmcatlanta.com/index.php/component/ohanah/decatur-amp-wednesday-55?format=html&amp;Itemid=
CATEGORIES:Stephanie Cordoba 
GEO:33.7705095;-84.29586770000003
LOCATION:CMC Decatur, Faculty Assignment
END:VEVENT
END:VCALENDAR