BEGIN:VCALENDAR
PRODID:-//Feedo Feed//NONSGML v1.0//EN
VERSION:2.0
CALSCALE:GREGORIAN
METHOD:PUBLISH
X-WR-CALNAME:Decatur Country, Folk, and Roots Camp
X-WR-CALDESC:
X-MS-OLK-FORCEINSPECTOROPEN:TRUE
BEGIN:VEVENT
DTSTAMP:20260422T214826Z
DTSTART:20210723T120000Z
DTEND:20210723T200000Z
TRANSP:TRANSPARENT
UID:962922021-07-23
SUMMARY:Decatur Country, Folk, and Roots Camp
DESCRIPTION:
URL:http://www.cmcatlanta.com/index.php/component/ohanah/decatur-country-folk-and-roots-camp-5-4?format=html&amp;Itemid=
CATEGORIES:Stephen Pepper
GEO:33.7705095;-84.29586770000003
LOCATION:CMC Decatur, Faculty Assignment
END:VEVENT
END:VCALENDAR