BEGIN:VCALENDAR
PRODID:-//Feedo Feed//NONSGML v1.0//EN
VERSION:2.0
CALSCALE:GREGORIAN
METHOD:PUBLISH
X-WR-CALNAME:Decatur Country, Folk, and Roots Camp
X-WR-CALDESC:
X-MS-OLK-FORCEINSPECTOROPEN:TRUE
BEGIN:VEVENT
DTSTAMP:20260422T214807Z
DTSTART:20210719T120000Z
DTEND:20210719T200000Z
TRANSP:TRANSPARENT
UID:962832021-07-19
SUMMARY:Decatur Country, Folk, and Roots Camp
DESCRIPTION:
URL:http://www.cmcatlanta.com/index.php/component/ohanah/decatur-country-folk-and-roots-camp?format=html&amp;Itemid=
CATEGORIES:Stephanie Cordoba 
GEO:33.7705095;-84.29586770000003
LOCATION:CMC Decatur, Faculty Assignment
END:VEVENT
END:VCALENDAR