BEGIN:VCALENDAR
PRODID:-//Feedo Feed//NONSGML v1.0//EN
VERSION:2.0
CALSCALE:GREGORIAN
METHOD:PUBLISH
X-WR-CALNAME:Decatur Front Desk (Thursday)
X-WR-CALDESC:
X-MS-OLK-FORCEINSPECTOROPEN:TRUE
BEGIN:VEVENT
DTSTAMP:20260423T092757Z
DTSTART:20210909T180000Z
DTEND:20210909T223000Z
TRANSP:TRANSPARENT
UID:1023732021-09-09
SUMMARY:Decatur Front Desk (Thursday)
DESCRIPTION:
URL:http://www.cmcatlanta.com/index.php/component/ohanah/decatur-front-desk-thursday?format=html&amp;Itemid=
CATEGORIES:Stephanie Cordoba 
GEO:33.7705095;-84.29586770000003
LOCATION:CMC Decatur, Faculty Assignment
END:VEVENT
END:VCALENDAR