BEGIN:VCALENDAR
PRODID:-//Feedo Feed//NONSGML v1.0//EN
VERSION:2.0
CALSCALE:GREGORIAN
METHOD:PUBLISH
X-WR-CALNAME:Decatur, gathering time
X-WR-CALDESC:Circle time, Stephen will lead.  Please play a piece or two for the kids.  
X-MS-OLK-FORCEINSPECTOROPEN:TRUE
BEGIN:VEVENT
DTSTAMP:20260422T104155Z
DTSTART:20210603T130000Z
DTEND:20210603T133000Z
TRANSP:TRANSPARENT
UID:952172021-06-03
SUMMARY:Decatur, gathering time
DESCRIPTION:Circle time, Stephen will lead.  Please play a piece or two for the kids.  
URL:http://www.cmcatlanta.com/index.php/component/ohanah/decatur-gathering-time-2?format=html&amp;Itemid=
CATEGORIES:Peter Sloan
GEO:33.7705095;-84.29586770000003
LOCATION:CMC Decatur, Faculty Assignment
END:VEVENT
END:VCALENDAR