BEGIN:VCALENDAR
PRODID:-//Feedo Feed//NONSGML v1.0//EN
VERSION:2.0
CALSCALE:GREGORIAN
METHOD:PUBLISH
X-WR-CALNAME:Decatur Guitar and Uke Camp
X-WR-CALDESC:
X-MS-OLK-FORCEINSPECTOROPEN:TRUE
BEGIN:VEVENT
DTSTAMP:20260422T161451Z
DTSTART:20210621T140000Z
DTEND:20210621T220000Z
TRANSP:TRANSPARENT
UID:957032021-06-21
SUMMARY:Decatur Guitar and Uke Camp
DESCRIPTION:
URL:http://www.cmcatlanta.com/index.php/component/ohanah/decatur-guitar-and-uke-camp-6?format=html&amp;Itemid=
CATEGORIES:Whittaker Dallas
GEO:33.7705095;-84.29586770000003
LOCATION:CMC Decatur, Faculty Assignment
END:VEVENT
END:VCALENDAR