BEGIN:VCALENDAR
PRODID:-//Feedo Feed//NONSGML v1.0//EN
VERSION:2.0
CALSCALE:GREGORIAN
METHOD:PUBLISH
X-WR-CALNAME:L5P Day Camp
X-WR-CALDESC:
X-MS-OLK-FORCEINSPECTOROPEN:TRUE
BEGIN:VEVENT
DTSTAMP:20260420T112717Z
DTSTART:20201012T114500Z
DTEND:20201012T213000Z
TRANSP:TRANSPARENT
UID:923722020-10-12
SUMMARY:L5P Day Camp
DESCRIPTION:
URL:http://www.cmcatlanta.com/index.php/component/ohanah/decatur-learning-support-pod-249?format=html&amp;Itemid=
CATEGORIES:Stephen Pepper
GEO:33.764702;-84.35057239999998
LOCATION:CMC Little Five Points, Faculty Assignment
END:VEVENT
END:VCALENDAR