BEGIN:VCALENDAR
PRODID:-//Feedo Feed//NONSGML v1.0//EN
VERSION:2.0
CALSCALE:GREGORIAN
METHOD:PUBLISH
X-WR-CALNAME:Decatur Music Boot Camp
X-WR-CALDESC:
X-MS-OLK-FORCEINSPECTOROPEN:TRUE
BEGIN:VEVENT
DTSTAMP:20260423T035557Z
DTSTART:20210730T170000Z
DTEND:20210730T220000Z
TRANSP:TRANSPARENT
UID:963222021-07-30
SUMMARY:Decatur Music Boot Camp
DESCRIPTION:
URL:http://www.cmcatlanta.com/index.php/component/ohanah/decatur-music-boot-camp-14?format=html&amp;Itemid=
CATEGORIES:Brock Tammeus
GEO:33.7705095;-84.29586770000003
LOCATION:CMC Decatur, Faculty Assignment
END:VEVENT
END:VCALENDAR