BEGIN:VCALENDAR
PRODID:-//Feedo Feed//NONSGML v1.0//EN
VERSION:2.0
CALSCALE:GREGORIAN
METHOD:PUBLISH
X-WR-CALNAME:Demi Abdalla (trial voice lesson)
X-WR-CALDESC:1st grade
X-MS-OLK-FORCEINSPECTOROPEN:TRUE
BEGIN:VEVENT
DTSTAMP:20260423T175851Z
DTSTART:20210920T143000Z
DTEND:20210920T150000Z
TRANSP:TRANSPARENT
UID:1031192021-09-20
SUMMARY:Demi Abdalla (trial voice lesson)
DESCRIPTION:1st grade
URL:http://www.cmcatlanta.com/index.php/component/ohanah/demi-abdalla-trial-voice-lesson?format=html&amp;Itemid=
CATEGORIES:Stephen Pepper
GEO:33.9462125;-84.33464730000003
LOCATION:CMC Dunwoody, Private Lesson
END:VEVENT
END:VCALENDAR