BEGIN:VCALENDAR
PRODID:-//Feedo Feed//NONSGML v1.0//EN
VERSION:2.0
CALSCALE:GREGORIAN
METHOD:PUBLISH
X-WR-CALNAME:Derrick Butler (begin 8/23)
X-WR-CALDESC:Teaching apprentice from LA.  Graduated from Tulane in May 2021 - major in math and minor in music.  Lead the Tulane Jazz band for 3 years.  
X-MS-OLK-FORCEINSPECTOROPEN:TRUE
BEGIN:VEVENT
DTSTAMP:20260423T022032Z
DTSTART:20210816T140000Z
DTEND:20210816T150000Z
TRANSP:TRANSPARENT
UID:984532021-08-16
SUMMARY:Derrick Butler (begin 8/23)
DESCRIPTION:Teaching apprentice from LA.  Graduated from Tulane in May 2021 - major in math and minor in music.  Lead the Tulane Jazz band for 3 years.  
URL:http://www.cmcatlanta.com/index.php/component/ohanah/derrick-butler-begin-8-23?format=html&amp;Itemid=
CATEGORIES:Peter Sloan
GEO:33.7646878;-84.35068100000001
LOCATION:CMC Little 5 Points, Private Lesson
END:VEVENT
END:VCALENDAR