BEGIN:VCALENDAR
PRODID:-//Feedo Feed//NONSGML v1.0//EN
VERSION:2.0
CALSCALE:GREGORIAN
METHOD:PUBLISH
X-WR-CALNAME:Dhanur Raman (online lesson sub for Diana Orozco)
X-WR-CALDESC:
X-MS-OLK-FORCEINSPECTOROPEN:TRUE
BEGIN:VEVENT
DTSTAMP:20260422T232048Z
DTSTART:20210721T200000Z
DTEND:20210721T203000Z
TRANSP:TRANSPARENT
UID:963052021-07-21
SUMMARY:Dhanur Raman (online lesson sub for Diana Orozco)
DESCRIPTION:
URL:http://www.cmcatlanta.com/index.php/component/ohanah/dhanur-raman-online-lesson-sub-for-diana-orozco?format=html&amp;Itemid=
CATEGORIES:Peter Sloan
GEO:33.7704955;-84.29584339999997
LOCATION:CMC Decatur, Private Lesson
END:VEVENT
END:VCALENDAR