BEGIN:VCALENDAR
PRODID:-//Feedo Feed//NONSGML v1.0//EN
VERSION:2.0
CALSCALE:GREGORIAN
METHOD:PUBLISH
X-WR-CALNAME:Dominic Louie-Pierre
X-WR-CALDESC:drum and guitar lesson
X-MS-OLK-FORCEINSPECTOROPEN:TRUE
BEGIN:VEVENT
DTSTAMP:20260421T000049Z
DTSTART:20220505T164500Z
DTEND:20220505T173000Z
TRANSP:TRANSPARENT
UID:1045642022-05-05
SUMMARY:Dominic Louie-Pierre
DESCRIPTION:drum and guitar lesson
URL:http://www.cmcatlanta.com/index.php/component/ohanah/dominic-louie-pierre-29?format=html&amp;Itemid=
CATEGORIES:Akeal Evans
GEO:33.7646878;-84.35068100000001
LOCATION:CMC Little 5 Points, Private Lesson
END:VEVENT
END:VCALENDAR