BEGIN:VCALENDAR
PRODID:-//Feedo Feed//NONSGML v1.0//EN
VERSION:2.0
CALSCALE:GREGORIAN
METHOD:PUBLISH
X-WR-CALNAME:Small group skills
X-WR-CALDESC:Stephen has a guitar lesson to give, small group skills with afternoon students.  
X-MS-OLK-FORCEINSPECTOROPEN:TRUE
BEGIN:VEVENT
DTSTAMP:20260422T172804Z
DTSTART:20210707T180000Z
DTEND:20210707T183000Z
TRANSP:TRANSPARENT
UID:958832021-07-07
SUMMARY:Small group skills
DESCRIPTION:Stephen has a guitar lesson to give, small group skills with afternoon students.  
URL:http://www.cmcatlanta.com/index.php/component/ohanah/dorothy-cornwell?format=html&amp;Itemid=
CATEGORIES:Peter Sloan
GEO:33.7704955;-84.29584339999997
LOCATION:CMC Decatur, Private Lesson
END:VEVENT
END:VCALENDAR