BEGIN:VCALENDAR
PRODID:-//Feedo Feed//NONSGML v1.0//EN
VERSION:2.0
CALSCALE:GREGORIAN
METHOD:PUBLISH
X-WR-CALNAME:Drive: Glennwood, Clairmont, Westchester (8/29 start)
X-WR-CALDESC:
X-MS-OLK-FORCEINSPECTOROPEN:TRUE
BEGIN:VEVENT
DTSTAMP:20260422T000730Z
DTSTART:20221114T183000Z
DTEND:20221114T193000Z
TRANSP:TRANSPARENT
UID:1066882022-11-14
SUMMARY:Drive: Glennwood, Clairmont, Westchester (8/29 start)
DESCRIPTION:
URL:http://www.cmcatlanta.com/index.php/component/ohanah/drive-glennwood-clairmont-westchester-8-29-start-11?format=html&amp;Itemid=
CATEGORIES:Stephanie Cordoba 
GEO:33.7705095;-84.29586770000003
LOCATION:CMC Decatur, Faculty Assignment
END:VEVENT
END:VCALENDAR