BEGIN:VCALENDAR
PRODID:-//Feedo Feed//NONSGML v1.0//EN
VERSION:2.0
CALSCALE:GREGORIAN
METHOD:PUBLISH
X-WR-CALNAME:Drive: Glenwood, Clairmont, Westchester (8/30 start)
X-WR-CALDESC:
X-MS-OLK-FORCEINSPECTOROPEN:TRUE
BEGIN:VEVENT
DTSTAMP:20260421T221043Z
DTSTART:20230418T183000Z
DTEND:20230418T193000Z
TRANSP:TRANSPARENT
UID:1078802023-04-18
SUMMARY:Drive: Glenwood, Clairmont, Westchester (8/30 start)
DESCRIPTION:
URL:http://www.cmcatlanta.com/index.php/component/ohanah/drive-glenwood-clairmont-westchester-8-30-start-36?format=html&amp;Itemid=
CATEGORIES:Stephanie Cordoba 
GEO:33.7705095;-84.29586770000003
LOCATION:CMC Decatur, Faculty Assignment
END:VEVENT
END:VCALENDAR