BEGIN:VCALENDAR
PRODID:-//Feedo Feed//NONSGML v1.0//EN
VERSION:2.0
CALSCALE:GREGORIAN
METHOD:PUBLISH
X-WR-CALNAME:Drum Camp Decatur APPROVED ABSENCE
X-WR-CALDESC:
X-MS-OLK-FORCEINSPECTOROPEN:TRUE
BEGIN:VEVENT
DTSTAMP:20260421T132153Z
DTSTART:20220627T160000Z
DTEND:20220627T220000Z
TRANSP:TRANSPARENT
UID:1056552022-06-27
SUMMARY:Drum Camp Decatur APPROVED ABSENCE
DESCRIPTION:
URL:http://www.cmcatlanta.com/index.php/component/ohanah/drum-camp-decatur-5?format=html&amp;Itemid=
CATEGORIES:Stephanie Cordoba 
GEO:33.7705095;-84.29586770000003
LOCATION:CMC Decatur, Faculty Assignment
END:VEVENT
END:VCALENDAR