BEGIN:VCALENDAR
PRODID:-//Feedo Feed//NONSGML v1.0//EN
VERSION:2.0
CALSCALE:GREGORIAN
METHOD:PUBLISH
X-WR-CALNAME:Drum Camp Decatur APPROVED ABSENCE
X-WR-CALDESC:
X-MS-OLK-FORCEINSPECTOROPEN:TRUE
BEGIN:VEVENT
DTSTAMP:20260421T143040Z
DTSTART:20220627T140000Z
DTEND:20220627T210000Z
TRANSP:TRANSPARENT
UID:1059952022-06-27
SUMMARY:Drum Camp Decatur APPROVED ABSENCE
DESCRIPTION:
URL:http://www.cmcatlanta.com/index.php/component/ohanah/drum-camp-decatur-7?format=html&amp;Itemid=
CATEGORIES:Jack Lloyd
GEO:33.7705095;-84.29586770000003
LOCATION:CMC Decatur, Faculty Assignment
END:VEVENT
END:VCALENDAR