BEGIN:VCALENDAR
PRODID:-//Feedo Feed//NONSGML v1.0//EN
VERSION:2.0
CALSCALE:GREGORIAN
METHOD:PUBLISH
X-WR-CALNAME:Drum Camp L5P
X-WR-CALDESC:
X-MS-OLK-FORCEINSPECTOROPEN:TRUE
BEGIN:VEVENT
DTSTAMP:20260421T154946Z
DTSTART:20220705T040000Z
DTEND:20220705T220000Z
TRANSP:TRANSPARENT
UID:1060892022-07-05
SUMMARY:Drum Camp L5P
DESCRIPTION:
URL:http://www.cmcatlanta.com/index.php/component/ohanah/drum-camp-l5p-11?format=html&amp;Itemid=
CATEGORIES:Brock Tammeus
GEO:33.764702;-84.35057239999998
LOCATION:CMC Little Five Points, Faculty Assignment
END:VEVENT
END:VCALENDAR