BEGIN:VCALENDAR
PRODID:-//Feedo Feed//NONSGML v1.0//EN
VERSION:2.0
CALSCALE:GREGORIAN
METHOD:PUBLISH
X-WR-CALNAME:Dunwoody AMP begins: drop off only/
X-WR-CALDESC:First day of the Afterschool Music Program @ CMC Dunwoody, drop off only.  The Dunwoody AMP Shuttle will return ASAP. \nMore info on AMP  \n 
X-MS-OLK-FORCEINSPECTOROPEN:TRUE
BEGIN:VEVENT
DTSTAMP:20260423T005733Z
DTSTART:20210809T133000Z
DTEND:20210809T173000Z
TRANSP:TRANSPARENT
UID:967952021-08-09
SUMMARY:Dunwoody AMP begins: drop off only/
DESCRIPTION:First day of the Afterschool Music Program @ CMC Dunwoody, drop off only.  The Dunwoody AMP Shuttle will return ASAP. \nMore info on AMP  \n 
URL:http://www.cmcatlanta.com/index.php/component/ohanah/dunwoody-amp-begins-1?format=html&amp;Itemid=
CATEGORIES:Master Calendar
GEO:33.94902;-84.33631689999999
LOCATION:CMC Dunwoody
END:VEVENT
END:VCALENDAR