BEGIN:VCALENDAR
PRODID:-//Feedo Feed//NONSGML v1.0//EN
VERSION:2.0
CALSCALE:GREGORIAN
METHOD:PUBLISH
X-WR-CALNAME:Dunwoody AMP Lead
X-WR-CALDESC:
X-MS-OLK-FORCEINSPECTOROPEN:TRUE
BEGIN:VEVENT
DTSTAMP:20260423T090027Z
DTSTART:20170825T180000Z
DTEND:20170825T223000Z
TRANSP:TRANSPARENT
UID:595562017-08-25
SUMMARY:Dunwoody AMP Lead
DESCRIPTION:
URL:http://www.cmcatlanta.com/index.php/component/ohanah/dunwoody-amp-lead-28?format=html&amp;Itemid=
CATEGORIES:Bernie Manela
GEO:33.94902;-84.33631689999999
LOCATION:CMC Dunwoody, Faculty Assignment
END:VEVENT
END:VCALENDAR