BEGIN:VCALENDAR
PRODID:-//Feedo Feed//NONSGML v1.0//EN
VERSION:2.0
CALSCALE:GREGORIAN
METHOD:PUBLISH
X-WR-CALNAME:Dunwoody AMP Lead
X-WR-CALDESC:
X-MS-OLK-FORCEINSPECTOROPEN:TRUE
BEGIN:VEVENT
DTSTAMP:20260423T143253Z
DTSTART:20171229T180000Z
DTEND:20171229T223000Z
TRANSP:TRANSPARENT
UID:595742017-12-29
SUMMARY:Dunwoody AMP Lead
DESCRIPTION:
URL:http://www.cmcatlanta.com/index.php/component/ohanah/dunwoody-amp-lead-46?format=html&amp;Itemid=
CATEGORIES:Bernie Manela
GEO:33.94902;-84.33631689999999
LOCATION:CMC Dunwoody, Faculty Assignment
END:VEVENT
END:VCALENDAR