BEGIN:VCALENDAR
PRODID:-//Feedo Feed//NONSGML v1.0//EN
VERSION:2.0
CALSCALE:GREGORIAN
METHOD:PUBLISH
X-WR-CALNAME:Dunwoody Drum Camp
X-WR-CALDESC:
X-MS-OLK-FORCEINSPECTOROPEN:TRUE
BEGIN:VEVENT
DTSTAMP:20260422T173226Z
DTSTART:20210701T150000Z
DTEND:20210701T220000Z
TRANSP:TRANSPARENT
UID:958102021-07-01
SUMMARY:Dunwoody Drum Camp
DESCRIPTION:
URL:http://www.cmcatlanta.com/index.php/component/ohanah/dunwoody-drum-camp-10?format=html&amp;Itemid=
CATEGORIES:Johanna Millin
GEO:33.94902;-84.33631689999999
LOCATION:CMC Dunwoody, Faculty Assignment
END:VEVENT
END:VCALENDAR