BEGIN:VCALENDAR
PRODID:-//Feedo Feed//NONSGML v1.0//EN
VERSION:2.0
CALSCALE:GREGORIAN
METHOD:PUBLISH
X-WR-CALNAME:Dunwoody Drum/Uke Camp
X-WR-CALDESC:
X-MS-OLK-FORCEINSPECTOROPEN:TRUE
BEGIN:VEVENT
DTSTAMP:20260422T160805Z
DTSTART:20210630T120000Z
DTEND:20210630T200000Z
TRANSP:TRANSPARENT
UID:958042021-06-30
SUMMARY:Dunwoody Drum/Uke Camp
DESCRIPTION:
URL:http://www.cmcatlanta.com/index.php/component/ohanah/dunwoody-drum-uke-camp-2?format=html&amp;Itemid=
CATEGORIES:Whittaker Dallas
GEO:33.94902;-84.33631689999999
LOCATION:CMC Dunwoody, Faculty Assignment
END:VEVENT
END:VCALENDAR