BEGIN:VCALENDAR
PRODID:-//Feedo Feed//NONSGML v1.0//EN
VERSION:2.0
CALSCALE:GREGORIAN
METHOD:PUBLISH
X-WR-CALNAME:Dunwoody Wizards Academy
X-WR-CALDESC:
X-MS-OLK-FORCEINSPECTOROPEN:TRUE
BEGIN:VEVENT
DTSTAMP:20260422T185933Z
DTSTART:20210706T150000Z
DTEND:20210706T220000Z
TRANSP:TRANSPARENT
UID:958542021-07-06
SUMMARY:Dunwoody Wizards Academy
DESCRIPTION:
URL:http://www.cmcatlanta.com/index.php/component/ohanah/dunwoody-wizards-academy-11?format=html&amp;Itemid=
CATEGORIES:Whittaker Dallas
GEO:33.94902;-84.33631689999999
LOCATION:CMC Dunwoody, Faculty Assignment
END:VEVENT
END:VCALENDAR