BEGIN:VCALENDAR
PRODID:-//Feedo Feed//NONSGML v1.0//EN
VERSION:2.0
CALSCALE:GREGORIAN
METHOD:PUBLISH
X-WR-CALNAME:Eli Kamenear ABSENT
X-WR-CALDESC:
X-MS-OLK-FORCEINSPECTOROPEN:TRUE
BEGIN:VEVENT
DTSTAMP:20260421T171012Z
DTSTART:20220724T170000Z
DTEND:20220724T173000Z
TRANSP:TRANSPARENT
UID:1061062022-07-24
SUMMARY:Eli Kamenear ABSENT
DESCRIPTION:
URL:http://www.cmcatlanta.com/index.php/component/ohanah/eli-kamenear-14?format=html&amp;Itemid=
CATEGORIES:Johanna Millin
GEO:33.9462125;-84.33464730000003
LOCATION:CMC Dunwoody, Private Lesson
END:VEVENT
END:VCALENDAR