BEGIN:VCALENDAR
PRODID:-//Feedo Feed//NONSGML v1.0//EN
VERSION:2.0
CALSCALE:GREGORIAN
METHOD:PUBLISH
X-WR-CALNAME:Eliana Henderson
X-WR-CALDESC:
X-MS-OLK-FORCEINSPECTOROPEN:TRUE
BEGIN:VEVENT
DTSTAMP:20260420T181832Z
DTSTART:20260429T160000Z
DTEND:20260429T163000Z
TRANSP:TRANSPARENT
UID:1308732026-04-29
SUMMARY:Eliana Henderson
DESCRIPTION:
URL:http://www.cmcatlanta.com/index.php/component/ohanah/eliana-henderson-1?format=html&amp;Itemid=
CATEGORIES:Kaela Barlow
GEO:
LOCATION:CMC Inman Park, Private Lesson
END:VEVENT
END:VCALENDAR