BEGIN:VCALENDAR
PRODID:-//Feedo Feed//NONSGML v1.0//EN
VERSION:2.0
CALSCALE:GREGORIAN
METHOD:PUBLISH
X-WR-CALNAME:Elizabeth Sauer
X-WR-CALDESC:
X-MS-OLK-FORCEINSPECTOROPEN:TRUE
BEGIN:VEVENT
DTSTAMP:20260423T112114Z
DTSTART:20170912T193000Z
DTEND:20170912T200000Z
TRANSP:TRANSPARENT
UID:531542017-09-12
SUMMARY:Elizabeth Sauer
DESCRIPTION:
URL:http://www.cmcatlanta.com/index.php/component/ohanah/elizabeth-sauer-42?format=html&amp;Itemid=
CATEGORIES:Carolyn Johnston
GEO:33.7704955;-84.29584339999997
LOCATION:CMC Decatur, Private Lesson
END:VEVENT
END:VCALENDAR