BEGIN:VCALENDAR
PRODID:-//Feedo Feed//NONSGML v1.0//EN
VERSION:2.0
CALSCALE:GREGORIAN
METHOD:PUBLISH
X-WR-CALNAME:Elizabeth Yang
X-WR-CALDESC:
X-MS-OLK-FORCEINSPECTOROPEN:TRUE
BEGIN:VEVENT
DTSTAMP:20260423T223644Z
DTSTART:20171004T134500Z
DTEND:20171004T140000Z
TRANSP:TRANSPARENT
UID:582512017-10-04
SUMMARY:Elizabeth Yang
DESCRIPTION:
URL:http://www.cmcatlanta.com/index.php/component/ohanah/elizabeth-yang-81?format=html&amp;Itemid=
CATEGORIES:Richard Mills
GEO:
LOCATION:CMC Brookhaven, Private Lesson
END:VEVENT
END:VCALENDAR