BEGIN:VCALENDAR
PRODID:-//Feedo Feed//NONSGML v1.0//EN
VERSION:2.0
CALSCALE:GREGORIAN
METHOD:PUBLISH
X-WR-CALNAME:Ella de Roode
X-WR-CALDESC:
X-MS-OLK-FORCEINSPECTOROPEN:TRUE
BEGIN:VEVENT
DTSTAMP:20260423T170503Z
DTSTART:20180205T193000Z
DTEND:20180205T200000Z
TRANSP:TRANSPARENT
UID:503212018-02-05
SUMMARY:Ella de Roode
DESCRIPTION:
URL:http://www.cmcatlanta.com/index.php/component/ohanah/ella-de-roode-19?format=html&amp;Itemid=
CATEGORIES:Johnson Gouvea
GEO:33.7646878;-84.35068100000001
LOCATION:CMC Little 5 Points, Private Lesson
END:VEVENT
END:VCALENDAR