BEGIN:VCALENDAR
PRODID:-//Feedo Feed//NONSGML v1.0//EN
VERSION:2.0
CALSCALE:GREGORIAN
METHOD:PUBLISH
X-WR-CALNAME:Ellis Caplan
X-WR-CALDESC:
X-MS-OLK-FORCEINSPECTOROPEN:TRUE
BEGIN:VEVENT
DTSTAMP:20260423T001355Z
DTSTART:20230223T213000Z
DTEND:20230223T220000Z
TRANSP:TRANSPARENT
UID:1108112023-02-23
SUMMARY:Ellis Caplan
DESCRIPTION:
URL:http://www.cmcatlanta.com/index.php/component/ohanah/ellis-caplan-4?format=html&amp;Itemid=
CATEGORIES:Khesner Oliveira
GEO:33.7704955;-84.29584339999997
LOCATION:CMC Decatur, Private Lesson
END:VEVENT
END:VCALENDAR