BEGIN:VCALENDAR
PRODID:-//Feedo Feed//NONSGML v1.0//EN
VERSION:2.0
CALSCALE:GREGORIAN
METHOD:PUBLISH
X-WR-CALNAME:Emelyn Carden Approved Absence
X-WR-CALDESC:
X-MS-OLK-FORCEINSPECTOROPEN:TRUE
BEGIN:VEVENT
DTSTAMP:20260424T145102Z
DTSTART:20230714T230000Z
DTEND:20230715T050000Z
TRANSP:TRANSPARENT
UID:1114192023-07-15
SUMMARY:Emelyn Carden Approved Absence
DESCRIPTION:
URL:http://www.cmcatlanta.com/index.php/component/ohanah/emelyn-carden-approved-absence-15?format=html&amp;Itemid=
CATEGORIES:Emelyn Carden
GEO:
LOCATION:
END:VEVENT
END:VCALENDAR