BEGIN:VCALENDAR
PRODID:-//Feedo Feed//NONSGML v1.0//EN
VERSION:2.0
CALSCALE:GREGORIAN
METHOD:PUBLISH
X-WR-CALNAME:AMHS Ensemble
X-WR-CALDESC:
X-MS-OLK-FORCEINSPECTOROPEN:TRUE
BEGIN:VEVENT
DTSTAMP:20260420T225142Z
DTSTART:20210323T180000Z
DTEND:20210323T190000Z
TRANSP:TRANSPARENT
UID:920362021-03-23
SUMMARY:AMHS Ensemble
DESCRIPTION:
URL:http://www.cmcatlanta.com/index.php/component/ohanah/ensemble-58-27?format=html&amp;Itemid=
CATEGORIES:Brock Tammeus
GEO:33.7646878;-84.35068100000001
LOCATION:CMC Little 5 Points, Private Lesson
END:VEVENT
END:VCALENDAR