BEGIN:VCALENDAR
PRODID:-//Feedo Feed//NONSGML v1.0//EN
VERSION:2.0
CALSCALE:GREGORIAN
METHOD:PUBLISH
X-WR-CALNAME:Esther Mast
X-WR-CALDESC:
X-MS-OLK-FORCEINSPECTOROPEN:TRUE
BEGIN:VEVENT
DTSTAMP:20260423T005505Z
DTSTART:20210723T140000Z
DTEND:20210723T144500Z
TRANSP:TRANSPARENT
UID:956142021-07-23
SUMMARY:Esther Mast
DESCRIPTION:
URL:http://www.cmcatlanta.com/index.php/component/ohanah/esther-mast-103-4?format=html&amp;Itemid=
CATEGORIES:Peter Sloan
GEO:33.7704955;-84.29584339999997
LOCATION:CMC Decatur, Private Lesson
END:VEVENT
END:VCALENDAR