BEGIN:VCALENDAR
PRODID:-//Feedo Feed//NONSGML v1.0//EN
VERSION:2.0
CALSCALE:GREGORIAN
METHOD:PUBLISH
X-WR-CALNAME:Esther Mast (Monday)
X-WR-CALDESC:
X-MS-OLK-FORCEINSPECTOROPEN:TRUE
BEGIN:VEVENT
DTSTAMP:20260422T012720Z
DTSTART:20220926T203000Z
DTEND:20220926T210000Z
TRANSP:TRANSPARENT
UID:1092882022-09-26
SUMMARY:Esther Mast (Monday)
DESCRIPTION:
URL:http://www.cmcatlanta.com/index.php/component/ohanah/esther-mast-monday?format=html&amp;Itemid=
CATEGORIES:Diana Orozco
GEO:33.7704955;-84.29584339999997
LOCATION:CMC Decatur, Private Lesson
END:VEVENT
END:VCALENDAR