BEGIN:VCALENDAR
PRODID:-//Feedo Feed//NONSGML v1.0//EN
VERSION:2.0
CALSCALE:GREGORIAN
METHOD:PUBLISH
X-WR-CALNAME:Esther Mast (Thursday)
X-WR-CALDESC:
X-MS-OLK-FORCEINSPECTOROPEN:TRUE
BEGIN:VEVENT
DTSTAMP:20260422T050157Z
DTSTART:20230413T203000Z
DTEND:20230413T210000Z
TRANSP:TRANSPARENT
UID:1093512023-04-13
SUMMARY:Esther Mast (Thursday)
DESCRIPTION:
URL:http://www.cmcatlanta.com/index.php/component/ohanah/esther-mast-thursday-28?format=html&amp;Itemid=
CATEGORIES:Diana Orozco
GEO:33.7704955;-84.29584339999997
LOCATION:CMC Decatur, Private Lesson
END:VEVENT
END:VCALENDAR