BEGIN:VCALENDAR
PRODID:-//Feedo Feed//NONSGML v1.0//EN
VERSION:2.0
CALSCALE:GREGORIAN
METHOD:PUBLISH
X-WR-CALNAME:Ethan Bassen
X-WR-CALDESC:
X-MS-OLK-FORCEINSPECTOROPEN:TRUE
BEGIN:VEVENT
DTSTAMP:20260424T053753Z
DTSTART:20180220T193000Z
DTEND:20180220T200000Z
TRANSP:TRANSPARENT
UID:589642018-02-20
SUMMARY:Ethan Bassen
DESCRIPTION:
URL:http://www.cmcatlanta.com/index.php/component/ohanah/ethan-bassen-66?format=html&amp;Itemid=
CATEGORIES:Jessica Gardner
GEO:33.9462125;-84.33464730000003
LOCATION:CMC Dunwoody, Private Lesson
END:VEVENT
END:VCALENDAR