BEGIN:VCALENDAR
PRODID:-//Feedo Feed//NONSGML v1.0//EN
VERSION:2.0
CALSCALE:GREGORIAN
METHOD:PUBLISH
X-WR-CALNAME:Evan and Keegan Roney; make-up lesson
X-WR-CALDESC:
X-MS-OLK-FORCEINSPECTOROPEN:TRUE
BEGIN:VEVENT
DTSTAMP:20260424T120042Z
DTSTART:20211113T170000Z
DTEND:20211113T180000Z
TRANSP:TRANSPARENT
UID:1044022021-11-13
SUMMARY:Evan and Keegan Roney; make-up lesson
DESCRIPTION:
URL:http://www.cmcatlanta.com/index.php/component/ohanah/evan-and-keegan-roney-make-up-lesson?format=html&amp;Itemid=
CATEGORIES:Johanna Millin
GEO:33.9462125;-84.33464730000003
LOCATION:CMC Dunwoody, Private Lesson
END:VEVENT
END:VCALENDAR