BEGIN:VCALENDAR
PRODID:-//Feedo Feed//NONSGML v1.0//EN
VERSION:2.0
CALSCALE:GREGORIAN
METHOD:PUBLISH
X-WR-CALNAME:Evan Roach
X-WR-CALDESC:
X-MS-OLK-FORCEINSPECTOROPEN:TRUE
BEGIN:VEVENT
DTSTAMP:20260426T001937Z
DTSTART:20220303T190000Z
DTEND:20220303T193000Z
TRANSP:TRANSPARENT
UID:1043892022-03-03
SUMMARY:Evan Roach
DESCRIPTION:
URL:http://www.cmcatlanta.com/index.php/component/ohanah/evan-roach-20?format=html&amp;Itemid=
CATEGORIES:Johanna Millin
GEO:33.9462125;-84.33464730000003
LOCATION:CMC Dunwoody, Private Lesson
END:VEVENT
END:VCALENDAR