BEGIN:VCALENDAR
PRODID:-//Feedo Feed//NONSGML v1.0//EN
VERSION:2.0
CALSCALE:GREGORIAN
METHOD:PUBLISH
X-WR-CALNAME:Evan Roney
X-WR-CALDESC:
X-MS-OLK-FORCEINSPECTOROPEN:TRUE
BEGIN:VEVENT
DTSTAMP:20260422T115722Z
DTSTART:20210610T193000Z
DTEND:20210610T200000Z
TRANSP:TRANSPARENT
UID:954842021-06-10
SUMMARY:Evan Roney
DESCRIPTION:
URL:http://www.cmcatlanta.com/index.php/component/ohanah/evan-roney-1?format=html&amp;Itemid=
CATEGORIES:Stephen Pepper
GEO:33.9462125;-84.33464730000003
LOCATION:CMC Dunwoody, Private Lesson
END:VEVENT
END:VCALENDAR