BEGIN:VCALENDAR
PRODID:-//Feedo Feed//NONSGML v1.0//EN
VERSION:2.0
CALSCALE:GREGORIAN
METHOD:PUBLISH
X-WR-CALNAME:Evie Burnett (online) sub for Diana
X-WR-CALDESC:
X-MS-OLK-FORCEINSPECTOROPEN:TRUE
BEGIN:VEVENT
DTSTAMP:20260422T232006Z
DTSTART:20210809T213000Z
DTEND:20210809T221500Z
TRANSP:TRANSPARENT
UID:969612021-08-09
SUMMARY:Evie Burnett (online) sub for Diana
DESCRIPTION:
URL:http://www.cmcatlanta.com/index.php/component/ohanah/evie-burnett-online-sub-for-diana?format=html&amp;Itemid=
CATEGORIES:Peter Sloan
GEO:33.7704955;-84.29584339999997
LOCATION:CMC Decatur, Private Lesson
END:VEVENT
END:VCALENDAR