BEGIN:VCALENDAR
PRODID:-//Feedo Feed//NONSGML v1.0//EN
VERSION:2.0
CALSCALE:GREGORIAN
METHOD:PUBLISH
X-WR-CALNAME:Faculty Meeting
X-WR-CALDESC:
X-MS-OLK-FORCEINSPECTOROPEN:TRUE
BEGIN:VEVENT
DTSTAMP:20260424T205049Z
DTSTART:20180110T150000Z
DTEND:20180110T160000Z
TRANSP:TRANSPARENT
UID:605362018-01-10
SUMMARY:Faculty Meeting
DESCRIPTION:
URL:http://www.cmcatlanta.com/index.php/component/ohanah/faculty-meeting-405?format=html&amp;Itemid=
CATEGORIES:Ken Luk
GEO:33.764702;-84.35057239999998
LOCATION:CMC Little Five Points, Faculty Assignment
END:VEVENT
END:VCALENDAR