BEGIN:VCALENDAR
PRODID:-//Feedo Feed//NONSGML v1.0//EN
VERSION:2.0
CALSCALE:GREGORIAN
METHOD:PUBLISH
X-WR-CALNAME:Fall Break Camp
X-WR-CALDESC:
X-MS-OLK-FORCEINSPECTOROPEN:TRUE
BEGIN:VEVENT
DTSTAMP:20260424T110927Z
DTSTART:20171012T114500Z
DTEND:20171012T140000Z
TRANSP:TRANSPARENT
UID:596022017-10-12
SUMMARY:Fall Break Camp
DESCRIPTION:
URL:http://www.cmcatlanta.com/index.php/component/ohanah/fall-break-camp-2?format=html&amp;Itemid=
CATEGORIES:Anna Dotsenko
GEO:33.764702;-84.35057239999998
LOCATION:CMC Little Five Points, Faculty Assignment
END:VEVENT
END:VCALENDAR