BEGIN:VCALENDAR
PRODID:-//Feedo Feed//NONSGML v1.0//EN
VERSION:2.0
CALSCALE:GREGORIAN
METHOD:PUBLISH
X-WR-CALNAME:Fall Semester Begins: Studio lessons and AMP
X-WR-CALDESC:
X-MS-OLK-FORCEINSPECTOROPEN:TRUE
BEGIN:VEVENT
DTSTAMP:20260421T194744Z
DTSTART:20220731T230000Z
DTEND:20220731T230000Z
TRANSP:TRANSPARENT
UID:1060082022-08-01
SUMMARY:Fall Semester Begins: Studio lessons and AMP
DESCRIPTION:
URL:http://www.cmcatlanta.com/index.php/component/ohanah/fall-semester-begins-studio-lessons-and-amp?format=html&amp;Itemid=
CATEGORIES:Master Calendar
GEO:
LOCATION:
END:VEVENT
END:VCALENDAR