BEGIN:VCALENDAR
PRODID:-//Feedo Feed//NONSGML v1.0//EN
VERSION:2.0
CALSCALE:GREGORIAN
METHOD:PUBLISH
X-WR-CALNAME:Folk and Country Camp Decatur
X-WR-CALDESC:
X-MS-OLK-FORCEINSPECTOROPEN:TRUE
BEGIN:VEVENT
DTSTAMP:20260421T175346Z
DTSTART:20220718T160000Z
DTEND:20220718T210000Z
TRANSP:TRANSPARENT
UID:1062822022-07-18
SUMMARY:Folk and Country Camp Decatur
DESCRIPTION:
URL:http://www.cmcatlanta.com/index.php/component/ohanah/folk-and-country-camp-decatur?format=html&amp;Itemid=
CATEGORIES:Stephanie Cordoba 
GEO:33.7705095;-84.29586770000003
LOCATION:CMC Decatur, Faculty Assignment
END:VEVENT
END:VCALENDAR