BEGIN:VCALENDAR
PRODID:-//Feedo Feed//NONSGML v1.0//EN
VERSION:2.0
CALSCALE:GREGORIAN
METHOD:PUBLISH
X-WR-CALNAME:Front Desk, CMC Decatur
X-WR-CALDESC:
X-MS-OLK-FORCEINSPECTOROPEN:TRUE
BEGIN:VEVENT
DTSTAMP:20260424T123042Z
DTSTART:20230803T180000Z
DTEND:20230803T220000Z
TRANSP:TRANSPARENT
UID:1122522023-08-03
SUMMARY:Front Desk, CMC Decatur
DESCRIPTION:
URL:http://www.cmcatlanta.com/index.php/component/ohanah/front-desk-cmc-decatur-1?format=html&amp;Itemid=
CATEGORIES:Brock Tammeus
GEO:33.7705095;-84.29586770000003
LOCATION:CMC Decatur, Faculty Assignment
END:VEVENT
END:VCALENDAR