BEGIN:VCALENDAR
PRODID:-//Feedo Feed//NONSGML v1.0//EN
VERSION:2.0
CALSCALE:GREGORIAN
METHOD:PUBLISH
X-WR-CALNAME:Front Desk, Decatur (sub in for Gage Lindsay)
X-WR-CALDESC:
X-MS-OLK-FORCEINSPECTOROPEN:TRUE
BEGIN:VEVENT
DTSTAMP:20260423T050020Z
DTSTART:20210903T180000Z
DTEND:20210903T223000Z
TRANSP:TRANSPARENT
UID:1018262021-09-03
SUMMARY:Front Desk, Decatur (sub in for Gage Lindsay)
DESCRIPTION:
URL:http://www.cmcatlanta.com/index.php/component/ohanah/front-desk-decatur-sub-in-for-gage-lindsay?format=html&amp;Itemid=
CATEGORIES:Akeal Evans
GEO:33.7705095;-84.29586770000003
LOCATION:CMC Decatur, Faculty Assignment
END:VEVENT
END:VCALENDAR